BEGIN:VCALENDAR
VERSION:2.0
PRODID:-//Jesuit Alumni Associations of India (West Zone) - ECPv6.15.16//NONSGML v1.0//EN
CALSCALE:GREGORIAN
METHOD:PUBLISH
X-WR-CALNAME:Jesuit Alumni Associations of India (West Zone)
X-ORIGINAL-URL:https://jaaiwest.in
X-WR-CALDESC:Events for Jesuit Alumni Associations of India (West Zone)
REFRESH-INTERVAL;VALUE=DURATION:PT1H
X-Robots-Tag:noindex
X-PUBLISHED-TTL:PT1H
BEGIN:VTIMEZONE
TZID:UTC
BEGIN:STANDARD
TZOFFSETFROM:+0000
TZOFFSETTO:+0000
TZNAME:UTC
DTSTART:20250101T000000
END:STANDARD
END:VTIMEZONE
BEGIN:VEVENT
DTSTART;TZID=UTC:20260206T080000
DTEND;TZID=UTC:20260208T170000
DTSTAMP:20260417T110914
CREATED:20251125T013920Z
LAST-MODIFIED:20251125T014133Z
UID:4224-1770364800-1770570000@jaaiwest.in
SUMMARY:The JAAI Award 2026
DESCRIPTION:JAAI Awards \nLetter_JAAI_Awards_2026
URL:https://jaaiwest.in/event/the-jaai-award-2026/
ATTACH;FMTTYPE=image/png:https://jaaiwest.in/wp-content/uploads/2025/11/Awards-2023.png
END:VEVENT
BEGIN:VEVENT
DTSTART;TZID=UTC:20260206T160000
DTEND;TZID=UTC:20260208T150000
DTSTAMP:20260417T110914
CREATED:20250626T053646Z
LAST-MODIFIED:20250902T023946Z
UID:2735-1770393600-1770562800@jaaiwest.in
SUMMARY:JAAI Summit - 11th National Congress of Federation of JAAI | Goa
DESCRIPTION:Venue: VM Salgaocar Institute of International Hospitality Education (VMSIIHE)\, Raia\, Goa (South Goa) \nMap \nHotels \nProgram \nRegister Now
URL:https://jaaiwest.in/event/11th-jaai-national-congress-2026/
LOCATION:VM Salgaocar Institute of International Hospitality Education (VMSIIHE)\, Raia\, Goa (South Goa)\, 8X58+8P\, Manora\, Raia\, Santemol\, Goa\, Raia\, Goa\, 403720\, India
ATTACH;FMTTYPE=image/jpeg:https://jaaiwest.in/wp-content/uploads/2025/06/IMG_4112-scaled.jpeg
END:VEVENT
END:VCALENDAR