BEGIN:VCALENDAR
VERSION:2.0
PRODID:-//Jesuit Alumni Associations of India (West Zone) - ECPv6.15.16//NONSGML v1.0//EN
CALSCALE:GREGORIAN
METHOD:PUBLISH
X-WR-CALNAME:Jesuit Alumni Associations of India (West Zone)
X-ORIGINAL-URL:https://jaaiwest.in
X-WR-CALDESC:Events for Jesuit Alumni Associations of India (West Zone)
REFRESH-INTERVAL;VALUE=DURATION:PT1H
X-Robots-Tag:noindex
X-PUBLISHED-TTL:PT1H
BEGIN:VTIMEZONE
TZID:UTC
BEGIN:STANDARD
TZOFFSETFROM:+0000
TZOFFSETTO:+0000
TZNAME:UTC
DTSTART:20240101T000000
END:STANDARD
END:VTIMEZONE
BEGIN:VEVENT
DTSTART;TZID=UTC:20260206T160000
DTEND;TZID=UTC:20260208T150000
DTSTAMP:20260422T223926
CREATED:20250626T053646Z
LAST-MODIFIED:20250902T023946Z
UID:2735-1770393600-1770562800@jaaiwest.in
SUMMARY:JAAI Summit - 11th National Congress of Federation of JAAI | Goa
DESCRIPTION:Venue: VM Salgaocar Institute of International Hospitality Education (VMSIIHE)\, Raia\, Goa (South Goa) \nMap \nHotels \nProgram \nRegister Now
URL:https://jaaiwest.in/event/11th-jaai-national-congress-2026/
LOCATION:VM Salgaocar Institute of International Hospitality Education (VMSIIHE)\, Raia\, Goa (South Goa)\, 8X58+8P\, Manora\, Raia\, Santemol\, Goa\, Raia\, Goa\, 403720\, India
ATTACH;FMTTYPE=image/jpeg:https://jaaiwest.in/wp-content/uploads/2025/06/IMG_4112-scaled.jpeg
END:VEVENT
BEGIN:VEVENT
DTSTART;TZID=UTC:20260206T080000
DTEND;TZID=UTC:20260208T170000
DTSTAMP:20260422T223926
CREATED:20251125T013920Z
LAST-MODIFIED:20251125T014133Z
UID:4224-1770364800-1770570000@jaaiwest.in
SUMMARY:The JAAI Award 2026
DESCRIPTION:JAAI Awards \nLetter_JAAI_Awards_2026
URL:https://jaaiwest.in/event/the-jaai-award-2026/
ATTACH;FMTTYPE=image/png:https://jaaiwest.in/wp-content/uploads/2025/11/Awards-2023.png
END:VEVENT
BEGIN:VEVENT
DTSTART;TZID=UTC:20251114T080000
DTEND;TZID=UTC:20251116T170000
DTSTAMP:20260422T223926
CREATED:20250314T081100Z
LAST-MODIFIED:20250626T053915Z
UID:2147-1763107200-1763312400@jaaiwest.in
SUMMARY:JAAI West Zone Alumni Congress 2025 | Mumbai
DESCRIPTION:Save the date\nJAAI West Zone Alumni Congress\n14 – 16 November\, 2025\nSt Mary’s School\, Mazagon\, Mumbai \nTheme: Ecology for Sustainable Living \nIn February/March you will receive the registration form with details of the theme\, program schedule\, accommodation\, etc. \nFor now\, we request you to kindly block these dates and pass on this message to members of your Alumni Association \n– Benison Vaz (JAAI WZ Secretary)\n– Fr Luke Rodrigues SJ (Bombay Province
URL:https://jaaiwest.in/event/jaai-west-zone-alumni-congress-2025/
LOCATION:St. Mary’s Alumni Association (ICSE Section)\, Mumbai\, India
ATTACH;FMTTYPE=image/jpeg:https://jaaiwest.in/wp-content/uploads/2025/03/St-Marys-ICSE.jpg
END:VEVENT
BEGIN:VEVENT
DTSTART;TZID=UTC:20250426T080000
DTEND;TZID=UTC:20250427T170000
DTSTAMP:20260422T223926
CREATED:20250316T021805Z
LAST-MODIFIED:20250316T021805Z
UID:2204-1745654400-1745773200@jaaiwest.in
SUMMARY:JAAI South Zone Congress 2025
DESCRIPTION:It’s Centennial Year in this Campus\nJAAI South Zone Congress 2025 is on 26th and 27th April\nPlease book your Tickets today \n\nAlumni Organization:\n\nLoyola Alumni Association (LAC) Chennai\n\n\n\nZone: South\n\n\nProvince: Chennai
URL:https://jaaiwest.in/event/jaai-south-zone-congress-2025-2/
LOCATION:Loyola Alumni Association (LAC) Chennai
ATTACH;FMTTYPE=image/jpeg:https://jaaiwest.in/wp-content/uploads/2025/03/fa165666-fdd7-429a-8f6e-86e98e1b7b6b_0.jpeg
END:VEVENT
BEGIN:VEVENT
DTSTART;TZID=UTC:20250328T080000
DTEND;TZID=UTC:20250330T170000
DTSTAMP:20260422T223926
CREATED:20250314T131338Z
LAST-MODIFIED:20250314T131338Z
UID:2179-1743148800-1743354000@jaaiwest.in
SUMMARY:DOX PREMIER LEAGUE SEASON 7
DESCRIPTION:The Wait is over…..\n*Get Ready For the Ultimate Cricket Showdown !* \nDOX PREMIER LEAGUE SEASON 7 \n28-29-30 March\, 2025.\nSchool Ground.\nThrilling Matches.\nPower-packed Action.\nGlory Awaits. \n_*Join us for three days of intense cricket battles\, sportsmanship\, and unforgettable moments!_* \nclick below to Register\n*•Player (INR 1000)*\n*•Team Owner*\n*•Organiser/Volunteer*\nhttps://www.dorandaoldxaverians.com/events/event/481473.dz \nConvenors:\nNihit Garodia – 9431108782.\nSahil Vinaik – 70707 77779.
URL:https://jaaiwest.in/event/dox-premier-league-season-7/
ATTACH;FMTTYPE=image/jpeg:https://jaaiwest.in/wp-content/uploads/2025/03/IMG_9979_0.jpeg
END:VEVENT
BEGIN:VEVENT
DTSTART;TZID=UTC:20250314T080000
DTEND;TZID=UTC:20250314T170000
DTSTAMP:20260422T223926
CREATED:20250314T081723Z
LAST-MODIFIED:20250314T081723Z
UID:2154-1741939200-1741971600@jaaiwest.in
SUMMARY:JAAI South Zone Congress 2025
DESCRIPTION:Date:\n\n26-April-2025 to 27-April-2025\n\n\n\nAlumni Organization:\n\nLoyola Alumni Association (LAC) Chennai\n\n\n\nZone:\n\nSouth\n\n\n\nProvince:\n\nChennai
URL:https://jaaiwest.in/event/jaai-south-zone-congress-2025/
LOCATION:Loyola Alumni Association (LAC) Chennai
ATTACH;FMTTYPE=image/jpeg:https://jaaiwest.in/wp-content/uploads/2025/03/fa165666-fdd7-429a-8f6e-86e98e1b7b6b_0.jpeg
END:VEVENT
END:VCALENDAR